BEGIN:VCALENDAR
VERSION:2.0
PRODID:-//hacksw/handcal//NONSGML v1.0//EN
BEGIN:VEVENT
SUMMARY:La Montlherienne - Dystonnie 760 Kms
UID:9c8da36c-bd75-4107-93ac-8cc1e13ce577
DTSTART:20260506T220000Z
DTEND:20260510T220000Z
LOCATION:Localisation   
CATEGORIES:Sportif
STATUS:
URL;VALUE=URI:https://www.cco91.com/evenements/2026/05/07/la-montlherienne-dystonnie-760-kms-2426346
END:VEVENT
END:VCALENDAR
