BEGIN:VCALENDAR
VERSION:2.0
PRODID:-//hacksw/handcal//NONSGML v1.0//EN
BEGIN:VEVENT
SUMMARY:200 kms Bretigny-Cherisy-Bretigny
UID:2ca2846c-0255-4947-8ac0-3143bdb145d1
DTSTART:20260424T220000Z
DTEND:20260425T220000Z
LOCATION:Localisation   
CATEGORIES:Sportif
STATUS:
URL;VALUE=URI:https://www.cco91.com/evenements/2026/04/25/200-kms-bretigny-cherisy-bretigny-2426333
END:VEVENT
END:VCALENDAR
